BEGIN:VCALENDAR
VERSION:2.0
PRODID:-//Plone.org//NONSGML plone.app.event//EN
X-WR-TIMEZONE:Brazil/East
BEGIN:VEVENT
SUMMARY:Reunião Extraordinária de Comissões -  Secretário Municipal de
  Saúde
DTSTART;TZID=Brazil/East;VALUE=DATE-TIME:20180424T170000
DTEND;TZID=Brazil/East;VALUE=DATE-TIME:20180424T175900
DTSTAMP;VALUE=DATE-TIME:20260422T060106Z
UID:249abd7e06e949709368eee728b1c292@www.domingosmartins.es.leg.br
CREATED;VALUE=DATE-TIME:20180423T133716Z
DESCRIPTION:Informações sobre o PL 5/2018.
LAST-MODIFIED;VALUE=DATE-TIME:20180423T183958Z
LOCATION:Sala das Comissões Permanentes
URL:https://www.domingosmartins.es.leg.br/comunicacao/eventos/reuniao-extr
 aordinaria-das-comissoes-informacoes-sobre-o-pl-5-2018
END:VEVENT
BEGIN:VTIMEZONE
TZID:Brazil/East
X-LIC-LOCATION:Brazil/East
BEGIN:STANDARD
DTSTART;VALUE=DATE-TIME:20180217T230000
TZNAME:BRT
TZOFFSETFROM:-0200
TZOFFSETTO:-0300
END:STANDARD
END:VTIMEZONE
END:VCALENDAR
